BEGIN:VCALENDAR
VERSION:2.0
PRODID:-//מגן דבורים אדום - ECPv5.1.5//NONSGML v1.0//EN
CALSCALE:GREGORIAN
METHOD:PUBLISH
X-WR-CALNAME:מגן דבורים אדום
X-ORIGINAL-URL:https://magendvorimadom.com
X-WR-CALDESC:אירועים ל מגן דבורים אדום
BEGIN:VTIMEZONE
TZID:Asia/Jerusalem
BEGIN:DAYLIGHT
TZOFFSETFROM:+0200
TZOFFSETTO:+0300
TZNAME:IDT
DTSTART:20220325T000000
END:DAYLIGHT
BEGIN:STANDARD
TZOFFSETFROM:+0300
TZOFFSETTO:+0200
TZNAME:IST
DTSTART:20221029T230000
END:STANDARD
END:VTIMEZONE
BEGIN:VEVENT
DTSTART;VALUE=DATE:20220410
DTEND;VALUE=DATE:20220413
DTSTAMP:20260424T155635
CREATED:20220322T182028Z
LAST-MODIFIED:20220323T094253Z
UID:33444-1649548800-1649807999@magendvorimadom.com
SUMMARY:סדנה לבניית כוורות גזע עץ טבעיות
DESCRIPTION:\n\n\nבמהלך הסדנה נבנה ונגלף בתים טבעיים לנחילי הדבורים בתוך גזעי עצים כפי שהיה נהוג בעולם הקדום וכפי שמובילים היום את ההגנה על הדבורים באירופה\, אמריקה ועוד.את הסדנה ינחו:הגברת Sabina Bergman (גרמניה).מר Peter Stamm (גרמניה)מר Adam Smiting (גרמניה)יוסי אוד (ישראל) \nסבינה\, פטר ואדם הם מצילי דבורים ידועי שם בעולם ובין מובילי המסע להשבת הדבורים הנעלמות ליערות גרמניה והצבת כוורות גזע-עץ ביערות וברחבי המדינה. \nיש אפשרות למי שמעוניין\, במהלך הסדנה\, ליצור כוורת גזע-עץ אישית עבורו וכן להשתתף בהכנת כוורת גזע-עץ להצבה בחוות החופש לדבורים. \nהסדנה תתקיים ביערות הרי ירושלים. \nקישור לרישום לאירוע\n
URL:https://magendvorimadom.com/event/%d7%a1%d7%93%d7%a0%d7%94-%d7%9c%d7%91%d7%a0%d7%99%d7%99%d7%aa-%d7%9b%d7%95%d7%95%d7%a8%d7%95%d7%aa-%d7%92%d7%96%d7%a2-%d7%a2%d7%a5-%d7%98%d7%91%d7%a2%d7%99%d7%95%d7%aa/
LOCATION:יערות הרי ירושלים
ATTACH;FMTTYPE=image/jpeg:https://magendvorimadom.com/wp-content/uploads/2022/03/sadna2022.jpg
END:VEVENT
END:VCALENDAR